BEGIN:VCALENDAR
PRODID:-//vBulletin 6//EN
VERSION:2.0
CALSCALE:GREGORIAN
BEGIN:VEVENT
UID:921566ee-a9dd-4fbb-a3e7-bcece41f5725
DTSTAMP:20260422T105147Z
SUMMARY:How to Duplucate Enum Field with Value and Condition Options
DESCRIPTION:Hello \,\n\ni have created two Enum Field with One List of Dist
 rict of Nepal and Local Level under Selected Disctrict which is Dependent 
 . i want to duplicate this field with Value and Condition optionos setup .
  How can i do that ?
URL:https://forum.espocrm.com/node/87200
DTSTART;VALUE=DATE:20230118
END:VEVENT
END:VCALENDAR
